BEGIN:VCALENDAR
VERSION:2.0
PRODID:-//eventon.com NONSGML v1.0//EN
CALSCALE:GREGORIAN
METHOD:PUBLISH
BEGIN:VEVENT
UID:69e4d30286ecc
DTSTAMP:20260419T130506Z
DTSTART:20180818
DTEND:20180819
LOCATION:Berlin
SUMMARY:25. Internationales Müggelseeschwimmen
DESCRIPTION:25. Internationales Müggelseeschwimmen 2018\nhttps://www.haupt
 stadtsport.tv/events/25-internationales-mueggelseeschwimmen/
URL:https://www.hauptstadtsport.tv/events/25-internationales-mueggelseeschwimmen/
END:VEVENT
END:VCALENDAR