BEGIN:VCALENDAR
VERSION:2.0
PRODID:-//eventon.com NONSGML v1.0//EN
CALSCALE:GREGORIAN
METHOD:PUBLISH
BEGIN:VEVENT
UID:69ecb07524621
DTSTAMP:20260425T121549Z
DTSTART:20200208
DTEND:20200209
LOCATION:Berlin
SUMMARY:Handball 2. BL: Spreefüxxe vs. HL Buchholz 08-Rosengarten
DESCRIPTION:Punktspiel der Spreefüxxe in der 2. Bundesliga der Frauen gege
 n HL Buchholz 08-Rosengarten\nhttps://www.hauptstadtsport.tv/events/handbal
 l-2-bl-spreefuexxe-vs-hl-buchholz-08-rosengarten/
URL:https://www.hauptstadtsport.tv/events/handball-2-bl-spreefuexxe-vs-hl-buchholz-08-rosengarten/
END:VEVENT
END:VCALENDAR