BEGIN:VCALENDAR
VERSION:2.0
PRODID:-//eventon.com NONSGML v1.0//EN
CALSCALE:GREGORIAN
METHOD:PUBLISH
BEGIN:VEVENT
UID:69ec9725159d6
DTSTAMP:20260425T102749Z
DTSTART:20221029
DTEND:20221030
LOCATION:Berlin
SUMMARY:3. Lauf der Sägerserie
DESCRIPTION:Die härteste Crosslauf-Serie in Berlin und Brandenburg. Drei L
 äufe\,  eine Serie. Bei jedem Lauf steigert sich die Streckenlänge. 3\, 6
  bis 10\, 8 km beim ersten Lauf und 10\, 8 bis 18 km beim letzten Lauf.\nht
 tps://www.hauptstadtsport.tv/events/3-lauf-der-saegerserie/
URL:https://www.hauptstadtsport.tv/events/3-lauf-der-saegerserie/
END:VEVENT
END:VCALENDAR