BEGIN:VCALENDAR
VERSION:2.0
PRODID:-//eventon.com NONSGML v1.0//EN
CALSCALE:GREGORIAN
METHOD:PUBLISH
BEGIN:VEVENT
UID:69e4c6d221803
DTSTAMP:20260419T121306Z
DTSTART:20240203
DTEND:20240204
LOCATION:Berlin
SUMMARY:Berliner Einzelmeisterschaften der Senioren
DESCRIPTION:Am ersten Februarwochenende finden die Berliner Einzelmeistersc
 haften der Seniorinnen und Senioren (Tischtennis) in der Großen Spielhalle
  statt.\nhttps://www.hauptstadtsport.tv/events/berliner-einzelmeisterschaft
 en-der-senioren/
URL:https://www.hauptstadtsport.tv/events/berliner-einzelmeisterschaften-der-senioren/
END:VEVENT
END:VCALENDAR